BEGIN:VCALENDAR
VERSION:2.0
PRODID:-//Glenwood Caverns Adventure Park - ECPv5.6.0//NONSGML v1.0//EN
CALSCALE:GREGORIAN
METHOD:PUBLISH
X-WR-CALNAME:Glenwood Caverns Adventure Park
X-ORIGINAL-URL:https://www.glenwoodcaverns.com
X-WR-CALDESC:Events for Glenwood Caverns Adventure Park
BEGIN:VTIMEZONE
TZID:America/Denver
BEGIN:DAYLIGHT
TZOFFSETFROM:-0700
TZOFFSETTO:-0600
TZNAME:MDT
DTSTART:20210314T090000
END:DAYLIGHT
BEGIN:STANDARD
TZOFFSETFROM:-0600
TZOFFSETTO:-0700
TZNAME:MST
DTSTART:20211107T080000
END:STANDARD
END:VTIMEZONE
BEGIN:VEVENT
DTSTART;TZID=America/Denver:20210520T100000
DTEND;TZID=America/Denver:20210520T170000
DTSTAMP:20210519T211338
CREATED:20201117T172634Z
LAST-MODIFIED:20201117T172634Z
UID:50737-1621504800-1621530000@www.glenwoodcaverns.com
SUMMARY:Park Open
DESCRIPTION:10:00 a.m. – 5:00 p.m.
URL:https://www.glenwoodcaverns.com/event/park-open-283/
LOCATION:Glenwood Caverns Adventure Park\, 51000 Two Rivers Plaza Road\, Glenwood Springs\, CO\, 81601\, United States
CATEGORIES:Hours
END:VEVENT
BEGIN:VEVENT
DTSTART;TZID=America/Denver:20210521T100000
DTEND;TZID=America/Denver:20210521T170000
DTSTAMP:20210519T211338
CREATED:20201117T172700Z
LAST-MODIFIED:20201117T172700Z
UID:50738-1621591200-1621616400@www.glenwoodcaverns.com
SUMMARY:Park Open
DESCRIPTION:10:00 a.m. – 5:00 p.m.
URL:https://www.glenwoodcaverns.com/event/park-open-284/
LOCATION:Glenwood Caverns Adventure Park\, 51000 Two Rivers Plaza Road\, Glenwood Springs\, CO\, 81601\, United States
CATEGORIES:Hours
END:VEVENT
BEGIN:VEVENT
DTSTART;TZID=America/Denver:20210522T100000
DTEND;TZID=America/Denver:20210522T180000
DTSTAMP:20210519T211338
CREATED:20201117T172727Z
LAST-MODIFIED:20201117T172727Z
UID:50739-1621677600-1621706400@www.glenwoodcaverns.com
SUMMARY:Park Open
DESCRIPTION:10:00 a.m. – 6:00 p.m.
URL:https://www.glenwoodcaverns.com/event/park-open-285/
LOCATION:Glenwood Caverns Adventure Park\, 51000 Two Rivers Plaza Road\, Glenwood Springs\, CO\, 81601\, United States
CATEGORIES:Hours
END:VEVENT
BEGIN:VEVENT
DTSTART;TZID=America/Denver:20210523T100000
DTEND;TZID=America/Denver:20210523T180000
DTSTAMP:20210519T211338
CREATED:20201117T172759Z
LAST-MODIFIED:20201117T172759Z
UID:50740-1621764000-1621792800@www.glenwoodcaverns.com
SUMMARY:Park Open
DESCRIPTION:10:00 a.m. – 6:00 p.m.
URL:https://www.glenwoodcaverns.com/event/park-open-286/
LOCATION:Glenwood Caverns Adventure Park\, 51000 Two Rivers Plaza Road\, Glenwood Springs\, CO\, 81601\, United States
CATEGORIES:Hours
END:VEVENT
BEGIN:VEVENT
DTSTART;TZID=America/Denver:20210524T100000
DTEND;TZID=America/Denver:20210524T170000
DTSTAMP:20210519T211338
CREATED:20201117T172840Z
LAST-MODIFIED:20201117T172840Z
UID:50741-1621850400-1621875600@www.glenwoodcaverns.com
SUMMARY:Park Open
DESCRIPTION:10:00 a.m. – 5:00 p.m.
URL:https://www.glenwoodcaverns.com/event/park-open-287/
LOCATION:Glenwood Caverns Adventure Park\, 51000 Two Rivers Plaza Road\, Glenwood Springs\, CO\, 81601\, United States
CATEGORIES:Hours
END:VEVENT
BEGIN:VEVENT
DTSTART;TZID=America/Denver:20210525T100000
DTEND;TZID=America/Denver:20210525T170000
DTSTAMP:20210519T211338
CREATED:20201117T172914Z
LAST-MODIFIED:20201117T172914Z
UID:50742-1621936800-1621962000@www.glenwoodcaverns.com
SUMMARY:Park Open
DESCRIPTION:10:00 a.m. – 5:00 p.m.
URL:https://www.glenwoodcaverns.com/event/park-open-288/
LOCATION:Glenwood Caverns Adventure Park\, 51000 Two Rivers Plaza Road\, Glenwood Springs\, CO\, 81601\, United States
CATEGORIES:Hours
END:VEVENT
BEGIN:VEVENT
DTSTART;TZID=America/Denver:20210526T100000
DTEND;TZID=America/Denver:20210526T170000
DTSTAMP:20210519T211338
CREATED:20201117T172948Z
LAST-MODIFIED:20201117T172948Z
UID:50743-1622023200-1622048400@www.glenwoodcaverns.com
SUMMARY:Park Open
DESCRIPTION:10:00 a.m. – 5:00 p.m.
URL:https://www.glenwoodcaverns.com/event/park-open-289/
LOCATION:Glenwood Caverns Adventure Park\, 51000 Two Rivers Plaza Road\, Glenwood Springs\, CO\, 81601\, United States
CATEGORIES:Hours
END:VEVENT
BEGIN:VEVENT
DTSTART;TZID=America/Denver:20210527T100000
DTEND;TZID=America/Denver:20210527T170000
DTSTAMP:20210519T211338
CREATED:20201117T173010Z
LAST-MODIFIED:20201117T173010Z
UID:50744-1622109600-1622134800@www.glenwoodcaverns.com
SUMMARY:Park Open
DESCRIPTION:10:00 a.m. – 5:00 p.m.
URL:https://www.glenwoodcaverns.com/event/park-open-290/
LOCATION:Glenwood Caverns Adventure Park\, 51000 Two Rivers Plaza Road\, Glenwood Springs\, CO\, 81601\, United States
CATEGORIES:Hours
END:VEVENT
BEGIN:VEVENT
DTSTART;TZID=America/Denver:20210528T100000
DTEND;TZID=America/Denver:20210528T180000
DTSTAMP:20210519T211338
CREATED:20201117T173124Z
LAST-MODIFIED:20201117T173124Z
UID:50745-1622196000-1622224800@www.glenwoodcaverns.com
SUMMARY:Park Open
DESCRIPTION:10:00 a.m. – 6:00 p.m.
URL:https://www.glenwoodcaverns.com/event/park-open-291/
LOCATION:Glenwood Caverns Adventure Park\, 51000 Two Rivers Plaza Road\, Glenwood Springs\, CO\, 81601\, United States
CATEGORIES:Hours
END:VEVENT
BEGIN:VEVENT
DTSTART;TZID=America/Denver:20210529T090000
DTEND;TZID=America/Denver:20210529T210000
DTSTAMP:20210519T211338
CREATED:20201117T173226Z
LAST-MODIFIED:20201117T173226Z
UID:50746-1622278800-1622322000@www.glenwoodcaverns.com
SUMMARY:Park Open
DESCRIPTION:9:00 a.m. – 9:00 p.m.
URL:https://www.glenwoodcaverns.com/event/park-open-292/
LOCATION:Glenwood Caverns Adventure Park\, 51000 Two Rivers Plaza Road\, Glenwood Springs\, CO\, 81601\, United States
CATEGORIES:Hours
END:VEVENT
BEGIN:VEVENT
DTSTART;TZID=America/Denver:20210530T090000
DTEND;TZID=America/Denver:20210530T210000
DTSTAMP:20210519T211338
CREATED:20201117T173250Z
LAST-MODIFIED:20201117T173250Z
UID:50747-1622365200-1622408400@www.glenwoodcaverns.com
SUMMARY:Park Open
DESCRIPTION:9:00 a.m. – 9:00 p.m.
URL:https://www.glenwoodcaverns.com/event/park-open-293/
LOCATION:Glenwood Caverns Adventure Park\, 51000 Two Rivers Plaza Road\, Glenwood Springs\, CO\, 81601\, United States
CATEGORIES:Hours
END:VEVENT
BEGIN:VEVENT
DTSTART;TZID=America/Denver:20210531T090000
DTEND;TZID=America/Denver:20210531T190000
DTSTAMP:20210519T211338
CREATED:20201117T173416Z
LAST-MODIFIED:20201117T173416Z
UID:50748-1622451600-1622487600@www.glenwoodcaverns.com
SUMMARY:Memorial Day - Park Open
DESCRIPTION:9:00 a.m. – 7:00 p.m.
URL:https://www.glenwoodcaverns.com/event/memorial-day-park-open/
LOCATION:Glenwood Caverns Adventure Park\, 51000 Two Rivers Plaza Road\, Glenwood Springs\, CO\, 81601\, United States
CATEGORIES:Hours
END:VEVENT
BEGIN:VEVENT
DTSTART;TZID=America/Denver:20210601T090000
DTEND;TZID=America/Denver:20210601T190000
DTSTAMP:20210519T211338
CREATED:20201117T173538Z
LAST-MODIFIED:20201117T180004Z
UID:50749-1622538000-1622574000@www.glenwoodcaverns.com
SUMMARY:Park Open
DESCRIPTION:9:00 a.m. – 7:00 p.m.
URL:https://www.glenwoodcaverns.com/event/park-open-294/
LOCATION:Glenwood Caverns Adventure Park\, 51000 Two Rivers Plaza Road\, Glenwood Springs\, CO\, 81601\, United States
CATEGORIES:Hours
END:VEVENT
BEGIN:VEVENT
DTSTART;TZID=America/Denver:20210602T090000
DTEND;TZID=America/Denver:20210602T190000
DTSTAMP:20210519T211338
CREATED:20201117T180053Z
LAST-MODIFIED:20201117T180053Z
UID:50750-1622624400-1622660400@www.glenwoodcaverns.com
SUMMARY:Park Open
DESCRIPTION:9:00 a.m. – 7:00 p.m.
URL:https://www.glenwoodcaverns.com/event/park-open-295/
LOCATION:Glenwood Caverns Adventure Park\, 51000 Two Rivers Plaza Road\, Glenwood Springs\, CO\, 81601\, United States
CATEGORIES:Hours
END:VEVENT
BEGIN:VEVENT
DTSTART;TZID=America/Denver:20210603T090000
DTEND;TZID=America/Denver:20210603T190000
DTSTAMP:20210519T211338
CREATED:20201117T180134Z
LAST-MODIFIED:20201117T180134Z
UID:50751-1622710800-1622746800@www.glenwoodcaverns.com
SUMMARY:Park Open
DESCRIPTION:9:00 a.m. – 7:00 p.m.
URL:https://www.glenwoodcaverns.com/event/park-open-296/
LOCATION:Glenwood Caverns Adventure Park\, 51000 Two Rivers Plaza Road\, Glenwood Springs\, CO\, 81601\, United States
CATEGORIES:Hours
END:VEVENT
BEGIN:VEVENT
DTSTART;TZID=America/Denver:20210604T090000
DTEND;TZID=America/Denver:20210604T190000
DTSTAMP:20210519T211338
CREATED:20201117T180219Z
LAST-MODIFIED:20201117T180219Z
UID:50752-1622797200-1622833200@www.glenwoodcaverns.com
SUMMARY:Park Open
DESCRIPTION:9:00 a.m. – 7:00 p.m.
URL:https://www.glenwoodcaverns.com/event/park-open-297/
LOCATION:Glenwood Caverns Adventure Park\, 51000 Two Rivers Plaza Road\, Glenwood Springs\, CO\, 81601\, United States
CATEGORIES:Hours
END:VEVENT
BEGIN:VEVENT
DTSTART;TZID=America/Denver:20210605T090000
DTEND;TZID=America/Denver:20210605T210000
DTSTAMP:20210519T211338
CREATED:20201117T180310Z
LAST-MODIFIED:20201117T180310Z
UID:50753-1622883600-1622926800@www.glenwoodcaverns.com
SUMMARY:Park Open
DESCRIPTION:9:00 a.m. – 9:00 p.m.
URL:https://www.glenwoodcaverns.com/event/park-open-298/
LOCATION:Glenwood Caverns Adventure Park\, 51000 Two Rivers Plaza Road\, Glenwood Springs\, CO\, 81601\, United States
CATEGORIES:Hours
END:VEVENT
BEGIN:VEVENT
DTSTART;TZID=America/Denver:20210606T090000
DTEND;TZID=America/Denver:20210606T190000
DTSTAMP:20210519T211338
CREATED:20201117T180345Z
LAST-MODIFIED:20201117T180345Z
UID:50754-1622970000-1623006000@www.glenwoodcaverns.com
SUMMARY:Park Open
DESCRIPTION:9:00 a.m. – 7:00 p.m.
URL:https://www.glenwoodcaverns.com/event/park-open-299/
LOCATION:Glenwood Caverns Adventure Park\, 51000 Two Rivers Plaza Road\, Glenwood Springs\, CO\, 81601\, United States
CATEGORIES:Hours
END:VEVENT
BEGIN:VEVENT
DTSTART;TZID=America/Denver:20210607T090000
DTEND;TZID=America/Denver:20210607T190000
DTSTAMP:20210519T211338
CREATED:20201117T180417Z
LAST-MODIFIED:20201117T180417Z
UID:50755-1623056400-1623092400@www.glenwoodcaverns.com
SUMMARY:Park Open
DESCRIPTION:9:00 a.m. – 7:00 p.m.
URL:https://www.glenwoodcaverns.com/event/park-open-300/
LOCATION:Glenwood Caverns Adventure Park\, 51000 Two Rivers Plaza Road\, Glenwood Springs\, CO\, 81601\, United States
CATEGORIES:Hours
END:VEVENT
BEGIN:VEVENT
DTSTART;TZID=America/Denver:20210608T090000
DTEND;TZID=America/Denver:20210608T190000
DTSTAMP:20210519T211338
CREATED:20201117T180440Z
LAST-MODIFIED:20201117T180440Z
UID:50756-1623142800-1623178800@www.glenwoodcaverns.com
SUMMARY:Park Open
DESCRIPTION:9:00 a.m. – 7:00 p.m.
URL:https://www.glenwoodcaverns.com/event/park-open-301/
LOCATION:Glenwood Caverns Adventure Park\, 51000 Two Rivers Plaza Road\, Glenwood Springs\, CO\, 81601\, United States
CATEGORIES:Hours
END:VEVENT
BEGIN:VEVENT
DTSTART;TZID=America/Denver:20210609T090000
DTEND;TZID=America/Denver:20210609T190000
DTSTAMP:20210519T211338
CREATED:20201117T180507Z
LAST-MODIFIED:20201117T180507Z
UID:50757-1623229200-1623265200@www.glenwoodcaverns.com
SUMMARY:Park Open
DESCRIPTION:9:00 a.m. – 7:00 p.m.
URL:https://www.glenwoodcaverns.com/event/park-open-302/
LOCATION:Glenwood Caverns Adventure Park\, 51000 Two Rivers Plaza Road\, Glenwood Springs\, CO\, 81601\, United States
CATEGORIES:Hours
END:VEVENT
BEGIN:VEVENT
DTSTART;TZID=America/Denver:20210610T090000
DTEND;TZID=America/Denver:20210610T190000
DTSTAMP:20210519T211338
CREATED:20201117T180536Z
LAST-MODIFIED:20201117T180536Z
UID:50758-1623315600-1623351600@www.glenwoodcaverns.com
SUMMARY:Park Open
DESCRIPTION:9:00 a.m. – 7:00 p.m.
URL:https://www.glenwoodcaverns.com/event/park-open-303/
LOCATION:Glenwood Caverns Adventure Park\, 51000 Two Rivers Plaza Road\, Glenwood Springs\, CO\, 81601\, United States
CATEGORIES:Hours
END:VEVENT
BEGIN:VEVENT
DTSTART;TZID=America/Denver:20210611T090000
DTEND;TZID=America/Denver:20210611T210000
DTSTAMP:20210519T211338
CREATED:20201117T180625Z
LAST-MODIFIED:20201117T180625Z
UID:50759-1623402000-1623445200@www.glenwoodcaverns.com
SUMMARY:Park Open
DESCRIPTION:9:00 a.m. – 9:00 p.m.
URL:https://www.glenwoodcaverns.com/event/park-open-304/
LOCATION:Glenwood Caverns Adventure Park\, 51000 Two Rivers Plaza Road\, Glenwood Springs\, CO\, 81601\, United States
CATEGORIES:Hours
END:VEVENT
BEGIN:VEVENT
DTSTART;TZID=America/Denver:20210612T090000
DTEND;TZID=America/Denver:20210612T210000
DTSTAMP:20210519T211338
CREATED:20201117T180657Z
LAST-MODIFIED:20201117T180657Z
UID:50760-1623488400-1623531600@www.glenwoodcaverns.com
SUMMARY:Park Open
DESCRIPTION:9:00 a.m. – 9:00 p.m.
URL:https://www.glenwoodcaverns.com/event/park-open-305/
LOCATION:Glenwood Caverns Adventure Park\, 51000 Two Rivers Plaza Road\, Glenwood Springs\, CO\, 81601\, United States
CATEGORIES:Hours
END:VEVENT
BEGIN:VEVENT
DTSTART;TZID=America/Denver:20210613T090000
DTEND;TZID=America/Denver:20210613T190000
DTSTAMP:20210519T211338
CREATED:20201117T180745Z
LAST-MODIFIED:20201117T180745Z
UID:50761-1623574800-1623610800@www.glenwoodcaverns.com
SUMMARY:Park Open
DESCRIPTION:9:00 a.m. – 7:00 p.m.
URL:https://www.glenwoodcaverns.com/event/park-open-306/
LOCATION:Glenwood Caverns Adventure Park\, 51000 Two Rivers Plaza Road\, Glenwood Springs\, CO\, 81601\, United States
CATEGORIES:Hours
END:VEVENT
BEGIN:VEVENT
DTSTART;TZID=America/Denver:20210614T090000
DTEND;TZID=America/Denver:20210614T190000
DTSTAMP:20210519T211338
CREATED:20201117T180811Z
LAST-MODIFIED:20201117T180811Z
UID:50762-1623661200-1623697200@www.glenwoodcaverns.com
SUMMARY:Park Open
DESCRIPTION:9:00 a.m. – 7:00 p.m.
URL:https://www.glenwoodcaverns.com/event/park-open-307/
LOCATION:Glenwood Caverns Adventure Park\, 51000 Two Rivers Plaza Road\, Glenwood Springs\, CO\, 81601\, United States
CATEGORIES:Hours
END:VEVENT
BEGIN:VEVENT
DTSTART;TZID=America/Denver:20210615T090000
DTEND;TZID=America/Denver:20210615T190000
DTSTAMP:20210519T211338
CREATED:20201117T180836Z
LAST-MODIFIED:20201117T180836Z
UID:50763-1623747600-1623783600@www.glenwoodcaverns.com
SUMMARY:Park Open
DESCRIPTION:9:00 a.m. – 7:00 p.m.
URL:https://www.glenwoodcaverns.com/event/park-open-308/
LOCATION:Glenwood Caverns Adventure Park\, 51000 Two Rivers Plaza Road\, Glenwood Springs\, CO\, 81601\, United States
CATEGORIES:Hours
END:VEVENT
BEGIN:VEVENT
DTSTART;TZID=America/Denver:20210616T090000
DTEND;TZID=America/Denver:20210616T190000
DTSTAMP:20210519T211338
CREATED:20201117T180921Z
LAST-MODIFIED:20201117T180921Z
UID:50764-1623834000-1623870000@www.glenwoodcaverns.com
SUMMARY:Park Open
DESCRIPTION:9:00 a.m. – 7:00 p.m.
URL:https://www.glenwoodcaverns.com/event/park-open-309/
LOCATION:Glenwood Caverns Adventure Park\, 51000 Two Rivers Plaza Road\, Glenwood Springs\, CO\, 81601\, United States
CATEGORIES:Hours
END:VEVENT
BEGIN:VEVENT
DTSTART;TZID=America/Denver:20210617T090000
DTEND;TZID=America/Denver:20210617T190000
DTSTAMP:20210519T211338
CREATED:20201117T180949Z
LAST-MODIFIED:20201117T180949Z
UID:50765-1623920400-1623956400@www.glenwoodcaverns.com
SUMMARY:Park Open
DESCRIPTION:9:00 a.m. – 7:00 p.m.
URL:https://www.glenwoodcaverns.com/event/park-open-310/
LOCATION:Glenwood Caverns Adventure Park\, 51000 Two Rivers Plaza Road\, Glenwood Springs\, CO\, 81601\, United States
CATEGORIES:Hours
END:VEVENT
BEGIN:VEVENT
DTSTART;TZID=America/Denver:20210618T090000
DTEND;TZID=America/Denver:20210618T210000
DTSTAMP:20210519T211338
CREATED:20201117T181015Z
LAST-MODIFIED:20201117T181015Z
UID:50766-1624006800-1624050000@www.glenwoodcaverns.com
SUMMARY:Park Open
DESCRIPTION:9:00 a.m. – 9:00 p.m.
URL:https://www.glenwoodcaverns.com/event/park-open-311/
LOCATION:Glenwood Caverns Adventure Park\, 51000 Two Rivers Plaza Road\, Glenwood Springs\, CO\, 81601\, United States
CATEGORIES:Hours
END:VEVENT
END:VCALENDAR